BEGIN:VCALENDAR
VERSION:2.0
PRODID:icalendar-ruby
CALSCALE:GREGORIAN
METHOD:PUBLISH
BEGIN:VEVENT
DTSTAMP:20260420T092144Z
UID:33-268620@loudonvilleumc.com
DTSTART:20260519T210000Z
DTEND:20260519T223000Z
CLASS:PUBLIC
CREATED:20260408T113524
DESCRIPTION:
LAST-MODIFIED:20260408T113524
LOCATION:
SUMMARY:Community Meal
URL;VALUE=URI:https://loudonvilleumc.com/events/community-meal--33/2026-05-
 19
END:VEVENT
END:VCALENDAR
