BEGIN:VCALENDAR
VERSION:2.0
PRODID:icalendar-ruby
CALSCALE:GREGORIAN
METHOD:PUBLISH
BEGIN:VEVENT
DTSTAMP:20260420T091509Z
UID:32-268619@loudonvilleumc.com
DTSTART:20260505T210000Z
DTEND:20260505T223000Z
CLASS:PUBLIC
CREATED:20260408T113459
DESCRIPTION:
LAST-MODIFIED:20260408T113459
LOCATION:
SUMMARY:Community Meal
URL;VALUE=URI:https://loudonvilleumc.com/events/community-meal--32/2026-05-
 05
END:VEVENT
END:VCALENDAR
